BEGIN:VCALENDAR
VERSION:2.0
PRODID:icalendar-ruby
CALSCALE:GREGORIAN
METHOD:PUBLISH
BEGIN:VEVENT
DTSTAMP:20260424T162028Z
UID:e1721ff1-e081-47aa-9693-86dd9db796de
DTSTART:20220616T100000
DTEND:20220618T220000
DESCRIPTION:
LOCATION:Avinguda Rius i Taulet\, Barcelona\, 08004 Spain
SUMMARY:Concierto Inaugural de Snar 2022 con Nathy Peluso  Estrella Damm
URL;VALUE=URI:https://sonar.howler.co.za/sonar-inaugural-2022
END:VEVENT
END:VCALENDAR
